BEGIN:VCALENDAR
VERSION:2.0
PRODID:-//Mediaavenue - ECPv6.15.11//NONSGML v1.0//EN
CALSCALE:GREGORIAN
METHOD:PUBLISH
X-ORIGINAL-URL:https://themediaavenue.com
X-WR-CALDESC:Events for Mediaavenue
REFRESH-INTERVAL;VALUE=DURATION:PT1H
X-Robots-Tag:noindex
X-PUBLISHED-TTL:PT1H
BEGIN:VTIMEZONE
TZID:UTC
BEGIN:STANDARD
TZOFFSETFROM:+0000
TZOFFSETTO:+0000
TZNAME:UTC
DTSTART:20150101T000000
END:STANDARD
END:VTIMEZONE
BEGIN:VEVENT
DTSTART;TZID=UTC:20220621T090000
DTEND;TZID=UTC:20220621T143000
DTSTAMP:20260424T213248
CREATED:20230608T105859Z
LAST-MODIFIED:20230611T062147Z
UID:1761-1655802000-1655821800@themediaavenue.com
SUMMARY:Think Commercial Roundtable 2022
DESCRIPTION:خلقت الحرب الروسية الأوكرانية ظرفا دوليا جديدا، وصار لها تداعيات وتأثيرات على الدول والأنشطة الاقتصادية \nوفى مصر كان من آثارها، تخفيض سعر الجنيه وبعض الإجراءات التي اتخذت مؤخرا أثرت على القطاعات الاقتصادية، ومنها القطاع العقارى الذى يحاول تجاوز التحديات والقفز عليها بإيجاد حلول الأزمة بدت فى الطريق لمواصلة النمو \nوشهد السوق العقارى ارتباكا نتيجة صعوبة عملية التسعير مع التذبذب فى أسعار الصرف والارتفاع المتتالى في تكلفة الخامات وغيرها من عناصر التكلفة وما يترتب على ذلك من تأثير على المبيعات \nوتنظم شركة “ميديا أفينيو” المتخصصة في تنظيم المؤتمرات، النسخة السادسة من سلسلة المائدة المستديرة “ثنك كوميرشال” يوم 21 يونيو المقبل، لمناقشة أهم تطورات السوق العقارى تحت عنوان “السوق العقارى وآليات تجاوز الأزمة الأوكرانية” \nويشارك فى المائدة المستديرة مسؤولون حكوميون وممثلو كبرى شركات التطوير العقارى والمقاولات وأعضاء برلمانيون و ممثلو منظمات الأعمال \nThink Commercial 2022 للإطلاع على الأجندة اضغط هنا
URL:https://themediaavenue.com/event/think-commercial-roundtable-2022/
LOCATION:The Nile Ritz-Carlton
CATEGORIES:Think Commercial
ATTACH;FMTTYPE=image/jpeg:https://themediaavenue.com/wp-content/uploads/2023/06/Think-Commercial-2022-1.jpg
END:VEVENT
BEGIN:VEVENT
DTSTART;TZID=UTC:20211019T080000
DTEND;TZID=UTC:20211019T170000
DTSTAMP:20260424T213248
CREATED:20230605T163950Z
LAST-MODIFIED:20230611T062333Z
UID:1636-1634630400-1634662800@themediaavenue.com
SUMMARY:أسواق المال - طموحات الجمهورية الجديدة
DESCRIPTION:تعقــد القمــة الســنوية لأســواق المــال خــلال العــام الجــاري، وسـط ظـروف اسـتثنائية إلا أنهـا قـد تكـون الطبيعـة الجديـدة للحيــاة، حيــث بــات العالــم الافتراضــي هــو المــكان الألكثــر اسـتحواذًا علـى وقتنـا عبـر شاشـات أجهـزة الكمبيوتـر أو خلف هواتفنــا الذكيــة، كمــا أن العيــش مــع الأزمــات أو سياســات اقتصاديــة اســتثنائية وعنيفــة فــي التغيــر أمــر واقــع. \nوتناقــش القمــة الســنوية ألســواق المــال هــذا العــام الفــرص والتحديــات التــي تواجــه بنــاء نمــاذج الأعمــال، فضــلا عــن هيــكل أســواق التمويــل الحكومــي والخــاص بعــد أن شــهد كلاهمــا اســتحداث أدوات تمويــل جديــدة أو إضافــة شــرائح مختلفـة مـن المسـتثمرين تسـهل طـرق التمويـل للشـركات والحكومــة \nCapital Markets 2021👈 للإطلاع على الأجندة اضغط هنا 
URL:https://themediaavenue.com/event/%d8%a7%d8%b3%d9%88%d8%a7%d9%82-%d8%a7%d9%84%d9%85%d8%a7%d9%84-%d8%b7%d9%85%d9%88%d8%ad%d8%a7%d8%aa-%d8%a7%d9%84%d8%ac%d9%85%d9%87%d9%88%d8%b1%d9%8a%d8%a9-%d8%a7%d9%84%d8%ac%d8%af%d9%8a%d8%af%d8%a9/
CATEGORIES:Capital Markets
ATTACH;FMTTYPE=image/png:https://themediaavenue.com/wp-content/uploads/2023/06/2021.png
END:VEVENT
BEGIN:VEVENT
DTSTART;TZID=UTC:20210714T090000
DTEND;TZID=UTC:20210714T153000
DTSTAMP:20260424T213249
CREATED:20230608T104021Z
LAST-MODIFIED:20230611T062410Z
UID:1753-1626253200-1626276600@themediaavenue.com
SUMMARY:Think Commercial Roundtable 2021
DESCRIPTION:تبدأ الحكومة الانتقال إلى العاصمة الإداريـة الجديـدة بعد بضعة أسابيع، ويتزامن مع ذلك تسليم شركات التطوير العقارى الوحدات السكنية للمشترين؛ لتبدأ الحياة بمفهومها المتكامل فى مجتمع جديد يؤرخ لحقبة جديدة من تاريخ مصر العمرانى \nوينظر للعاصمة الإدارية الجديدة منذ بدء عملية التنمية بها على أنها ستصبح النموذج الذي يحتذى في تنمية الجيل الجديد من المدن التي تستهدف الحكومة تنفيذها \nولهذا تنظم شركة « ميديا أفينو» المتخصصة في تنظيم المؤتمرات الندوة الخامسة من سلسلة المائدة المستديرة «ثنك كوميرشال» التى تناقش من خلالها شؤون و تطورات السوق العقارى تحت شعار « افتتاح العاصمة الإدارية ورؤية جديدة للقطاع العقارى» \nوتشهد المائدة المستديرة استعراضا لتطورات العاصمة الإدارية والمنجزات بها والاستعداد لبدء عمل الحكومة والموظفين بها وكذلك الحياة المعيشية الكاملة المواطنين الذين اشتروا وحدات فى مشروعات بالمدينة \nThink commercial 2021 للإطلاع على الأجندة اضغط هنا
URL:https://themediaavenue.com/event/think-commercial-roundtable-2021/
LOCATION:The Nile Ritz-Carlton
CATEGORIES:Think Commercial
ATTACH;FMTTYPE=image/jpeg:https://themediaavenue.com/wp-content/uploads/2023/06/Think-commercial-2021-1.jpg
END:VEVENT
BEGIN:VEVENT
DTSTART;TZID=UTC:20200818T120000
DTEND;TZID=UTC:20200818T140000
DTSTAMP:20260424T213249
CREATED:20230608T105025Z
LAST-MODIFIED:20230611T062428Z
UID:1757-1597752000-1597759200@themediaavenue.com
SUMMARY:Think Commercial Roundtable webinar August 2020
DESCRIPTION:ترى شركة “ميديا أفينيو” المتخصصة في تنظيم المؤتمرات الفرصة مواتية لعقد جلسة نقاشية عبر الإنترنت بعنوان “سوق العقارات وباب الخروج من أزمة كورونا” \nويتحدث فيها كبار المطورين العقاريين عن رؤيتهم للسوق وكيفية الخروج من الأزمة الراهنة والمدى الزمنى المتوقع لامتداد تأثيراتها ويتحدث فيها مسؤولون من الحكومة لعرض توقعاتهم أيضا لتداعيات الأزمة وآثارها \nThink Commercial webinar 2020 للإطلاع على الأجندة اضغط هنا
URL:https://themediaavenue.com/event/think-commercial-roundtable-webinar-august-2020/
CATEGORIES:Think Commercial
ATTACH;FMTTYPE=image/jpeg:https://themediaavenue.com/wp-content/uploads/2023/06/Think-Commercial-webinar-2020-1.jpg
END:VEVENT
BEGIN:VEVENT
DTSTART;TZID=UTC:20200310T080000
DTEND;TZID=UTC:20200310T170000
DTSTAMP:20260424T213249
CREATED:20230605T163615Z
LAST-MODIFIED:20230611T062508Z
UID:1633-1583827200-1583859600@themediaavenue.com
SUMMARY:أسواق المال - تمويل أكثر نفاذا للأسواق
DESCRIPTION:شــهد عــام 2019 بوضــوح تحــول نموذج النمــو لبنــوك الاســتثمار التقليديــة إلى الــشركات المتكاملــة للخدمــات الماليــة غـير المصرفيــة بالإضافــة إلى بــزوغ دور تكنولوجيــا المعلومــات وتطبيقــات الــذكاء الإصطناعــي في تمكين شركات الخدمات المالية في الانتشار الواسع والنفاذ لأسواق الاحتياجات التمويلية \nوتشــير مئــات التراخيــص التــي حصلــت عليهــا الــشركات لتقديــم خدمــات التمويــل غـير المــصرفي والخطــوات الجرئيــة للحكومــة والبنــك المركــزي في دعــم استراتيجية الشمول المالي “FINTECH “وتطبيقات التكنولوجيا المالية التي تستهدف تعزيـز الانتشـار في الخدمـات الماليـة غير المصرفيـة إلى أننـا عـلى أعتـاب مرحلـة جديدة في تهيئة سـوق تمويل أكثر نفاذاً للأسـواق \nCapital Markets 2020 👈للإطلاع على الأجندة اضغط هنا
URL:https://themediaavenue.com/event/%d8%a7%d8%b3%d9%88%d8%a7%d9%82-%d8%a7%d9%84%d9%85%d8%a7%d9%84-%d8%aa%d9%85%d9%88%d9%8a%d9%84-%d8%a7%d9%83%d8%ab%d8%b1-%d9%86%d9%81%d8%a7%d8%b0%d8%a7-%d9%84%d9%84%d8%a7%d8%b3%d9%88%d8%a7%d9%82/
CATEGORIES:Capital Markets
ATTACH;FMTTYPE=image/png:https://themediaavenue.com/wp-content/uploads/2023/06/2020.png
END:VEVENT
BEGIN:VEVENT
DTSTART;TZID=UTC:20200225T090000
DTEND;TZID=UTC:20200225T153000
DTSTAMP:20260424T213249
CREATED:20230608T095124Z
LAST-MODIFIED:20230611T062514Z
UID:1747-1582621200-1582644600@themediaavenue.com
SUMMARY:Think Commercial Roundtable February 2020
DESCRIPTION:يشهد سوق العقارات المصري في 2020 تبني شركات التطوير العقاري خططا أكثر ابتكارا وتنافسية على مستوى المنتجات وأساليب التمويل والقيمة المضافة في الوحدات المطروحة وأساليب التسعير \nورغم صعوبة التحديات التي تواجه السوق إلا ان أحترافية اللاعبين الرئيسيين وخبراتهم تؤكد أن الفرص لا تزال قائمة وسط الانفتاح العمراني الذي تشهده الدولة وتراجع أسعار الفائدة وتكاليف المواد الرئيسية \nتناقش الدورة الثالثة من المائدة المستديرة “ثنك كوميرشال” خطط الحكومة والشركات لاستمرار جاذبية السوق وتخصص جلسة رئيسية عن نظام المطور العام وآليات العمل به والمزايا التي يحققها للمطورين والعملاء وفرص التوسع في هذا النموذج \nThink Commercial 2020 👈للإطلاع على الأجندة اضغط هنا
URL:https://themediaavenue.com/event/think-commercial-roundtable-february-2020/
LOCATION:The Nile Ritz-Carlton
CATEGORIES:Think Commercial
ATTACH;FMTTYPE=image/jpeg:https://themediaavenue.com/wp-content/uploads/2023/06/Think-Commercial-2020-1.jpg
END:VEVENT
BEGIN:VEVENT
DTSTART;TZID=UTC:20191210T080000
DTEND;TZID=UTC:20191210T170000
DTSTAMP:20260424T213249
CREATED:20230605T165509Z
LAST-MODIFIED:20230611T062542Z
UID:1649-1575964800-1575997200@themediaavenue.com
SUMMARY:"القمة السنوية السادسة لقطاع السيارات المصري "إيجيبت أوتوموتيف
DESCRIPTION:تنطلق القمة السنوية السادسة لقطاع السيارات المصري إيجيبت أوتوموتيف، و تهـدف الـدورة السادسة للمؤتمـر إلـى تسـليط الضـوء علـى المتغيـرات التـي يشـهدها القطـاع وتوضيـح أهـم المحـاور الفاعلـة فـي الصناعـة، والتـي تشـهد زخما تكنولوجيا يتطلـب المزيـد مـن الجهـود والاستثمارات لمواكبـة التطـورات السـريعة فـي مجـال صناعـة السـيارات، بالتزامـن مـع الاهتمام الكبيـر الـذي تقدمـه الدولـة لتشـجيع وتطويـر الصناعـة. \nEgypt Automotive 2019👈 للإطلاع على الأجندة اضغط هنا
URL:https://themediaavenue.com/event/%d8%aa%d9%86%d8%b7%d9%84%d9%82-%d8%a7%d9%84%d9%82%d9%85%d8%a9-%d8%a7%d9%84%d8%b3%d9%86%d9%88%d9%8a%d8%a9-%d8%a7%d9%84%d8%b3%d8%a7%d8%af%d8%b3%d8%a9-%d9%84%d9%82%d8%b7%d8%a7%d8%b9-%d8%a7%d9%84%d8%b3/
CATEGORIES:Egyptautomotive
ATTACH;FMTTYPE=image/png:https://themediaavenue.com/wp-content/uploads/2023/06/eg-2020.png
END:VEVENT
BEGIN:VEVENT
DTSTART;TZID=UTC:20190914T093000
DTEND;TZID=UTC:20190914T143000
DTSTAMP:20260424T213249
CREATED:20230608T090154Z
LAST-MODIFIED:20230611T062613Z
UID:1738-1568453400-1568471400@themediaavenue.com
SUMMARY:مؤتمر الاستثمار في الطاقة المتجددة واستدامة التنمية
DESCRIPTION:نجحت مصر خلال سنوات قليلة في بناء أسس قوية للتوجه نحو الطاقة الجديدة والمتجددة، وقدمت نموذجا للشراكة مع القطاع الخاص أسهم في تدفق الاستثمارات في مشروعات الطاقة الشمسية وطاقة الرياح \nوتنظم ميديا أفنيو بالتعاون مع جريدة البورصة كراعي اعلامي مائدة مستديرة بالقاهرة يوم 24 سبتمبر 2019 بفندق الريتز كارلتون حول مستقبل الاستثمار في الطاقة المتجددة واستدامة التنمية \nوتناقش المائدة المستديرة عددا من المحاور حول رؤية القطاع الخاص مع الحكومة لكيفية تسارع معدلات نمو الطاقة الجديدة في ظل اجتياز مرحلة سد الفجوة في الطاقة إلى استدامة التنمية وتحويل مصر إلى منتج ومصدر للطاقة النظيفة، وكذلك دور الشركات المصرية في تجهيز البنية التحتية لمشروعات الطاقة الشمسية وبحث زيادة نسبة مشاركتهم في المشروعات المستقبلية \nوتستعرض المحاور الجوانب التكنولوجية التي تؤثر في مستقبل الاستثمار في القطاع ومستقبل عمليات تخزين الطاقة وتكلفتها وتحديات تحلية مياه الشرب ومعالجة الصرف الصحي ودور مختلف الجهات التنظيمية في تهيئة الفرص للتوسع في الطاقة الجديدة والمتجددة لتسريع التحول من الطاقة التقليدية للطاقة النظيفة وخفض التكلفة على موازنة الدولة \nRenewable Energy 2019 👈للإطلاع على الأجندة اضغط هنا
URL:https://themediaavenue.com/event/%d9%85%d8%a4%d8%aa%d9%85%d8%b1-%d8%a7%d9%84%d8%a7%d8%b3%d8%aa%d8%ab%d9%85%d8%a7%d8%b1-%d9%81%d9%8a-%d8%a7%d9%84%d8%b7%d8%a7%d9%82%d8%a9-%d8%a7%d9%84%d9%85%d8%aa%d8%ac%d8%af%d8%af%d8%a9-%d9%88%d8%a7/
LOCATION:The Nile Ritz-Carlton
ATTACH;FMTTYPE=image/jpeg:https://themediaavenue.com/wp-content/uploads/2023/06/Renewable-Energy-2019-1.jpg
END:VEVENT
BEGIN:VEVENT
DTSTART;TZID=UTC:20190827T080000
DTEND;TZID=UTC:20190827T170000
DTSTAMP:20260424T213249
CREATED:20230605T170513Z
LAST-MODIFIED:20230611T062633Z
UID:1660-1566892800-1566925200@themediaavenue.com
SUMMARY:Think Commercial Roundtable Touristic Real Estate
DESCRIPTION:عادت معدلات إشغالات الفنادق السياحية للارتفاع إلى مستويات ما قبل 2015، وتشير التوقعات إلى استمرار التحسن في توافد الأفواج السياحية لمصر \nخلال السنوات الماضية كانت شركات التنمية العقارية والسياحية تستعد لطفرة في الوفود السياحية، وبدأت تطوير عدد من المشروعات فى المناطق الساحلية مثل الساحل الشمالى والغردقة ومرسى علم والعين السخنة ومنطقة جبل الجلالة، وتسعى الشركات مدعومة بخطط و محفزات حكومية لتصدير العقارات بيعها للأجانب أو المصريين المغتربين \nThink Commercial 8-2019 :للإطلاع على الأجندة اضغط هنا
URL:https://themediaavenue.com/event/think-commercial-roundtable-touristic-real-estate/
CATEGORIES:Think Commercial
ATTACH;FMTTYPE=image/png:https://themediaavenue.com/wp-content/uploads/2023/06/Think-Commercial-2019-2.png
END:VEVENT
BEGIN:VEVENT
DTSTART;TZID=UTC:20190409T080000
DTEND;TZID=UTC:20190409T170000
DTSTAMP:20260424T213249
CREATED:20230605T163307Z
LAST-MODIFIED:20230611T062715Z
UID:1629-1554796800-1554829200@themediaavenue.com
SUMMARY:أسواق المال- أدوات التمويل وفرص تسريع النمو وتنشيط أسواق المال
DESCRIPTION:ملتقـى نحـو 500 مـن صانعـي القـرار والسياسـات الاقتصاديـة والمالــي مــع رؤســاء ومســئولي المؤسســات الماليــة فــي مصــر والمنطقــة العربيــة \nيشـارك بفعاليـات الملتقـى كبـار التنفيذييـن بالشـركات مـن مختلـف القطاعـات مثـل التصنيـع والتعليـم والصحـة والتشـييد والبنـاء والتمويـل الاستهلاكي \nCapital Markets 2019 👈للإطلاع على الأجندة اضغط هنا
URL:https://themediaavenue.com/event/%d8%a7%d8%b3%d9%88%d8%a7%d9%82-%d8%a7%d9%84%d9%85%d8%a7%d9%84-%d8%a7%d8%af%d9%88%d8%a7%d8%aa-%d8%a7%d9%84%d8%aa%d9%85%d9%88%d9%8a%d9%84-%d9%88%d9%81%d8%b1%d8%b5-%d8%aa%d8%b3%d8%b1%d9%8a%d8%b9-%d8%a7/
CATEGORIES:Capital Markets
ATTACH;FMTTYPE=image/png:https://themediaavenue.com/wp-content/uploads/2023/06/2019.png
END:VEVENT
BEGIN:VEVENT
DTSTART;TZID=UTC:20190320T080000
DTEND;TZID=UTC:20190320T170000
DTSTAMP:20260424T213249
CREATED:20230605T170200Z
LAST-MODIFIED:20230611T062736Z
UID:1657-1553068800-1553101200@themediaavenue.com
SUMMARY:Think Commercial Roundtable 2019
DESCRIPTION:– Are developers facing a crisis in renting or selling administrative space now? \n-Demand indicators in the market of administrative buildings &\nwhether there were signs of improvement \n– Has corporate strategy changed from “leasing” to “selling?” \n– What does the competition between developers look like right now? \n-The future of business and financial life in Egypt? \n– Is there a study by the government of commercial and logistics areas? \n– The extent to which current market prices are suitable for demand rates on rent or acquisition \n-What changes have occurred in leasing contracts in commercial centers like \n-Malls after the liberalization of the exchange rate? \n– Is there financing available for leasing or buying real estate? \nTo view the agenda click here 👉 Think Commercial 3-2019
URL:https://themediaavenue.com/event/think-commercial-roundtable-2019/
CATEGORIES:Think Commercial
ATTACH;FMTTYPE=image/png:https://themediaavenue.com/wp-content/uploads/2023/06/Think-Commercial-2019.png
END:VEVENT
BEGIN:VEVENT
DTSTART;TZID=UTC:20181210T080000
DTEND;TZID=UTC:20181210T170000
DTSTAMP:20260424T213249
CREATED:20230605T165117Z
LAST-MODIFIED:20230611T062810Z
UID:1646-1544428800-1544461200@themediaavenue.com
SUMMARY:القمة السنوية الخامسة لقطاع السيارات المصري إيجيبت أوتوموتيف
DESCRIPTION:تنطلق القمة السنوية الخامسة لقطاع السيارات المصري إيجيبت أوتوموتيف 2018 تحت مسمى “مسار جديد لقطاع السيارات”. \nتهـدف الـدورة الخامسـة للمؤتمـر إلـى تسـليط الضـوء علـى المتغيـرات التـي يشـهدها القطـاع وتوضيـح أهـم المحـاور الفاعلـة فـي الصناعـة، والتـي تشـهد زخما تكنولوجيا يتطلـب المزيـد مـن الجهـود والاسـتثمارات لمواكبـة التطـورات السـريعة فـي مجـال صناعـة السـيارات، بالتزامـن مـع الاهتمـام الكبيـر الـذي تقدمـه الدولـة لتشـجيع وتطويـر الصناعـة. \nالــدورة الحاليــة للقمــة الســنوية لصناعــة الســيارات تشــهد تغييــرات جوهريــة نظــرًا للأحداث الاقتصاديــة التــي مــر بهــا القطــاع خـلال العــام الماضــي وترقــب المصنعيــن للتطبيــق النهائــي للاتفاقيات الدوليــة خاصــة الشــراكة الأوروبية التــي ســيتم تفعيلهــا بــدءًا مــن عــام 2019 \nتتضمــن جلســات المؤتمــر عــرض بعــض المحــاور الرئيســية الواجــب تفعيلهــا للنهــوض بالقطــاع، لعــل أبرزهــا عــرض وتوضيــح رؤيــة الحكومــة خـلال الســنوات الخمـس المقبلـة، فيمـا يتعلـق باسـتراتيجية صناعـة السـيارات، وعـرض الفـرص الاسـتثمارية المتاحـة بمحـور قنـاة السـويس والتـي أصبحـت قبلـة المسـتثمرين بعــد الجهــود الحثيثــة التــي قدمتهــا الحكومــة مؤخــرًا لتشــجيع الاســتثمارات المحليــة والأجنبيــة. \nكمــا ستشــهد عــرض النتائــج النهائيــة لــورش العمــل التــي ســبقت المؤتمــر، وكان أبرزهــا الحــوارات النقاشــية مــع لجنــة حمايــة المســتهلك لتوضيــح بعــض البنــود فــي اللائحة التنفيذيــة للقانــون الجديــد. \nوســيتم أيضا عــرض النتائــج الأخيــرة للجلســات الحواريــة فيمــا يتعلــق بــدور وزارة الداخليــة فــي توفيــر قاعــدة بيانــات تدعــم الصناعــة بالإضافــة لمناقشــة دور قطــاع التأميــن علــى الســيارات، وعــرض وتوضيــح بعــض النقــاط المتعلقــة بتطبيــق المواصفــات القياســية الخاصــة بالجــودة \nEgypt Automotive 2018 👈للإطلاع على الأجندة اضغط هنا
URL:https://themediaavenue.com/event/%d8%a7%d9%84%d9%82%d9%85%d8%a9-%d8%a7%d9%84%d8%b3%d9%86%d9%88%d9%8a%d8%a9-%d8%a7%d9%84%d8%ae%d8%a7%d9%85%d8%b3%d8%a9-%d9%84%d9%82%d8%b7%d8%a7%d8%b9-%d8%a7%d9%84%d8%b3%d9%8a%d8%a7%d8%b1%d8%a7%d8%aa/
CATEGORIES:Egyptautomotive
ATTACH;FMTTYPE=image/png:https://themediaavenue.com/wp-content/uploads/2023/06/eg-2018.png
END:VEVENT
BEGIN:VEVENT
DTSTART;TZID=UTC:20180220T080000
DTEND;TZID=UTC:20180220T170000
DTSTAMP:20260424T213249
CREATED:20230605T162926Z
LAST-MODIFIED:20230611T062842Z
UID:1626-1519113600-1519146000@themediaavenue.com
SUMMARY:أسواق المال - الاصلاحات الاقتصادية ورؤية 2030 لسوق المال
DESCRIPTION:تنظـم الجمعيـة المصريـة لدراسـات التمويـل القمـة السـنوية لأسواق المـال تحـت عنـوان: “دور الإصلاحات فـى اسـتعادة مسـار النمـو ورؤيــة 2030 لسوق المال \nCapital Markets 2018 👈للإطلاع على الأجندة اضغط هنا
URL:https://themediaavenue.com/event/%d8%a7%d8%b3%d9%88%d8%a7%d9%82-%d8%a7%d9%84%d9%85%d8%a7%d9%84-%d8%a7%d9%84%d8%a7%d8%b5%d9%84%d8%a7%d8%ad%d8%a7%d8%aa-%d8%a7%d9%84%d8%a7%d9%82%d8%aa%d8%b5%d8%a7%d8%af%d9%8a%d8%a9-%d9%88%d8%b1%d8%a4/
CATEGORIES:Capital Markets
ATTACH;FMTTYPE=image/png:https://themediaavenue.com/wp-content/uploads/2023/06/2018.png
END:VEVENT
BEGIN:VEVENT
DTSTART;TZID=UTC:20171210T080000
DTEND;TZID=UTC:20171211T170000
DTSTAMP:20260424T213249
CREATED:20230605T164757Z
LAST-MODIFIED:20230611T062922Z
UID:1642-1512892800-1513011600@themediaavenue.com
SUMMARY:القمـة السـنوية الرابعـة لقطـاع السـيارات المصـري إيجيبت أوتوموتيف
DESCRIPTION:تنطلـق القمـة السـنوية الرابعـة لقطـاع السـيارات المصـري “إيجيبـت أوتوموتيـف 2017” بالتزامن مـع انعقـاد معـرض “أوتـو تيــك” لمســتلزمات الإنتــاج وقطــع الغيــار.. وبشــراكة قويــة بيــن “انفورمــا أرت ليــن ســي ار جـي” وبيـن المنظمـة للمعـرض وشـركة إيجيبـت أوتوموتيـف المنظمـة للقمـة السـنوية للسـيارات. \nوتركــز قمــة هــذا العــام علــى العديــد مــن التغيــرات التــي يشــهدها قطــاع الســيارات المصــري بعــد صــدور قــرار تعويــم الجنيـه 3 نوفمبـر 2016 والقـرارات الاقتصاديـة اللاحقة التـي أثـرت بشـكل كبيـر علـي القطـاع.. بجانـب مواصلـة الحديـث عـن اسـتراتيجية صناعـة السـيارات وأسـباب تأخـر صدورهـا والعواقـب التـي نتجـت عـن التأخيـر مـن خلال مناقشـة كافـة الجهـات والشـركات العاملـة بالسـوق. \nوتناقش القمة فرص الاستثمار المتاحة أمام صناعة السيارات ومستلزمات الإنتاج في المنطقة الاقتصادية لقناة السويس، وكذلــك تأثيــر اتفاقيــات انضمــام مصــر للبريكــس والميركســور علــى مســتقبل صناعــة الســيارات وعــرض دور القطــاع الخــاص فــي تطويــر منظومــة النقــل الجماعــي. \nويتضمـن المؤتمـر ورش عمـل لمناقشـة وتحليـل تأثيـر التكنولوجيـا الحديثـة فـي الحـد مـن الغـش التجـاري خاصـة فـي قطـع الغيـار ومسـتلزمات الإنتـاج. \nكمـا تـم تخصيـص ورش عمـل عـن آليـات اسـتفادة قطـاع السـيارات مـن الخدمـات المصرفيـة وغيـر المصرفيـة خاصـة قيـد الشـركات والتـداول فـي البورصـة وزيـادة حجـم الشـركات وتمويـل توسـعاتها، بالإضافـة لعـدد مـن ورش العمـل حـول تطويـر منظومـة الصيانة وخدمـات مـا بعـد البيـع وآليـات زيـادة الصـادرات بقطـاع الصناعـات المغذيـة. \nEgypt Automotive 2017 👈للإطلاع على الأجندة اضغط هنا
URL:https://themediaavenue.com/event/%d8%a7%d9%84%d9%82%d9%85%d9%80%d8%a9-%d8%a7%d9%84%d8%b3%d9%80%d9%86%d9%88%d9%8a%d8%a9-%d8%a7%d9%84%d8%b1%d8%a7%d8%a8%d8%b9%d9%80%d8%a9-%d9%84%d9%82%d8%b7%d9%80%d8%a7%d8%b9-%d8%a7%d9%84%d8%b3%d9%80/
CATEGORIES:Egyptautomotive
ATTACH;FMTTYPE=image/png:https://themediaavenue.com/wp-content/uploads/2023/06/eg-2017.png
END:VEVENT
BEGIN:VEVENT
DTSTART;TZID=UTC:20170411T080000
DTEND;TZID=UTC:20170411T170000
DTSTAMP:20260424T213249
CREATED:20230605T162530Z
LAST-MODIFIED:20230611T062944Z
UID:1623-1491897600-1491930000@themediaavenue.com
SUMMARY:أسواق المال وتمويل الإصلاح الاقتصادى
DESCRIPTION:“تنظم الجمعية المصرية لدراسات التمويل والاستثمار القمة السنوية لأسواق المال تحت عنوان “أسواق المال وتمويل الإصلاح الاقتصادي \nوتناقش القمة، المستجدات والإجراءات التنظيمية لسوق مال قادر على مواكبة احتياجات التنمية الاقتصادية وتوفير التمويل غير المصرفي عبر أدوات متعددة تلائم أهداف تمويل مشروعات برنامج الإصلاح الاقتصادي وأيضا تمويلات الأفراد والمؤسسات \nCapital Markets 2017 👈للإطلاع على الأجندة اضغط هنا
URL:https://themediaavenue.com/event/%d8%a7%d8%b3%d9%88%d8%a7%d9%82-%d8%a7%d9%84%d9%85%d8%a7%d9%84-%d9%88%d8%aa%d9%85%d9%88%d9%8a%d9%84-%d8%a7%d9%84%d8%a7%d8%b5%d9%84%d8%a7%d8%ad-%d8%a7%d9%84%d8%a7%d9%82%d8%aa%d8%b5%d8%a7%d8%af%d9%89/
LOCATION:Marriott Cairo
CATEGORIES:Capital Markets
ATTACH;FMTTYPE=image/jpeg:https://themediaavenue.com/wp-content/uploads/2023/06/Capital-Markets-2017-1.jpg
END:VEVENT
BEGIN:VEVENT
DTSTART;TZID=UTC:20160209T080000
DTEND;TZID=UTC:20160209T170000
DTSTAMP:20260424T213249
CREATED:20230605T161944Z
LAST-MODIFIED:20230611T063010Z
UID:1609-1455004800-1455037200@themediaavenue.com
SUMMARY:Capital Markets Financing Growth
DESCRIPTION:The role of capital markets in providing financing alternatives for significant projects\n– Is it time to create the yield curve and stimulate the secondary bonds market?\n– Warrants and their contribution to attracting local and foreign investments\n– Real estate funds are the gate towards activating the real estate market\, the liquidating of real\nestate portfolios\, facilitating the flow of investments\, stimulating securitization\, and factoring\nactivities as well as adding new tools to the Stock Exchange.\n– Regional presence of listed companies and securities and their impact on corporate finance opportunities and the competitiveness in serving securities companies’ traders.\n– Towards a new vision of the Egyptian stock exchange with regard to legislation\, tools and\nmembers… a vision that will keep pace with the future of the Egyptian economy in the coming\ndecades.\n– Non-bank financial services and their role in supporting economic activity and expected growth\nopportunities \nTo view the agenda click here 👉 Capital Markets 2016
URL:https://themediaavenue.com/event/capital-markets-financing-growth/
CATEGORIES:Capital Markets
ATTACH;FMTTYPE=image/png:https://themediaavenue.com/wp-content/uploads/2023/06/2016.png
END:VEVENT
END:VCALENDAR